BEGIN:VCALENDAR
VERSION:2.0
PRODID:-//nwPranaPets - ECPv6.15.20//NONSGML v1.0//EN
CALSCALE:GREGORIAN
METHOD:PUBLISH
X-WR-CALNAME:nwPranaPets
X-ORIGINAL-URL:https://pranichealingforanimals.com
X-WR-CALDESC:Events for nwPranaPets
REFRESH-INTERVAL;VALUE=DURATION:PT1H
X-Robots-Tag:noindex
X-PUBLISHED-TTL:PT1H
BEGIN:VTIMEZONE
TZID:America/Los_Angeles
BEGIN:DAYLIGHT
TZOFFSETFROM:-0800
TZOFFSETTO:-0700
TZNAME:PDT
DTSTART:20130310T100000
END:DAYLIGHT
BEGIN:STANDARD
TZOFFSETFROM:-0700
TZOFFSETTO:-0800
TZNAME:PST
DTSTART:20131103T090000
END:STANDARD
BEGIN:DAYLIGHT
TZOFFSETFROM:-0800
TZOFFSETTO:-0700
TZNAME:PDT
DTSTART:20140309T100000
END:DAYLIGHT
BEGIN:STANDARD
TZOFFSETFROM:-0700
TZOFFSETTO:-0800
TZNAME:PST
DTSTART:20141102T090000
END:STANDARD
BEGIN:DAYLIGHT
TZOFFSETFROM:-0800
TZOFFSETTO:-0700
TZNAME:PDT
DTSTART:20150308T100000
END:DAYLIGHT
BEGIN:STANDARD
TZOFFSETFROM:-0700
TZOFFSETTO:-0800
TZNAME:PST
DTSTART:20151101T090000
END:STANDARD
BEGIN:DAYLIGHT
TZOFFSETFROM:-0800
TZOFFSETTO:-0700
TZNAME:PDT
DTSTART:20160313T100000
END:DAYLIGHT
BEGIN:STANDARD
TZOFFSETFROM:-0700
TZOFFSETTO:-0800
TZNAME:PST
DTSTART:20161106T090000
END:STANDARD
BEGIN:DAYLIGHT
TZOFFSETFROM:-0800
TZOFFSETTO:-0700
TZNAME:PDT
DTSTART:20170312T100000
END:DAYLIGHT
BEGIN:STANDARD
TZOFFSETFROM:-0700
TZOFFSETTO:-0800
TZNAME:PST
DTSTART:20171105T090000
END:STANDARD
END:VTIMEZONE
BEGIN:VEVENT
DTSTART;TZID=America/Los_Angeles:20160315T190000
DTEND;TZID=America/Los_Angeles:20160315T203000
DTSTAMP:20260424T053051
CREATED:20151208T061350Z
LAST-MODIFIED:20151208T061350Z
UID:1318-1458068400-1458073800@pranichealingforanimals.com
SUMMARY:Animal Healing - Practical Skills class
DESCRIPTION:Discover how to create wellness\, reduce stress and enhance your pet’s life. This practice will help you develop your own innate healing skills to assist healing your pets. Learn about energy anatomy and how to balance your pet’s energy system. You don’t have to feel or see energy to have these techniques work! \nThis workshop begins with a 30 minute presentation on simplified Pranic Healing\, and then we have an hour for supervised practice with your quiet\, well-behaved dog. You’ll be fine-tuning your scanning skills and working on your dog’s specific physical issues.  Please bring a comfortable bed for your dog to relax on. \nCats best left home\, please. \nClass repeats every third Tuesday through June.
URL:https://pranichealingforanimals.com/event/animal-healing-practical-skills-class-3/
LOCATION:Friendly House\, 1737 NW 26th Avenue (at Thurman St.)\, Portland\, OR\, 97068
CATEGORIES:Practical Skills Classes
ATTACH;FMTTYPE=image/jpeg:https://pranichealingforanimals.com/wp-content/uploads/2015/09/1230025_67120125.jpg
END:VEVENT
BEGIN:VEVENT
DTSTART;TZID=America/Los_Angeles:20160216T190000
DTEND;TZID=America/Los_Angeles:20160216T203000
DTSTAMP:20260424T053051
CREATED:20151208T061306Z
LAST-MODIFIED:20151208T061306Z
UID:1317-1455649200-1455654600@pranichealingforanimals.com
SUMMARY:Animal Healing - Practical Skills class
DESCRIPTION:Discover how to create wellness\, reduce stress and enhance your pet’s life. This practice will help you develop your own innate healing skills to assist healing your pets. Learn about energy anatomy and how to balance your pet’s energy system. You don’t have to feel or see energy to have these techniques work! \nThis workshop begins with a 30 minute presentation on simplified Pranic Healing\, and then we have an hour for supervised practice with your quiet\, well-behaved dog. You’ll be fine-tuning your scanning skills and working on your dog’s specific physical issues.  Please bring a comfortable bed for your dog to relax on. \nCats best left home\, please. \nClass repeats every third Tuesday through June.
URL:https://pranichealingforanimals.com/event/animal-healing-practical-skills-class-2/
LOCATION:Friendly House\, 1737 NW 26th Avenue (at Thurman St.)\, Portland\, OR\, 97068
CATEGORIES:Practical Skills Classes
ATTACH;FMTTYPE=image/jpeg:https://pranichealingforanimals.com/wp-content/uploads/2015/09/1105855_74120519.jpg
END:VEVENT
BEGIN:VEVENT
DTSTART;TZID=America/Los_Angeles:20160119T190000
DTEND;TZID=America/Los_Angeles:20160119T203000
DTSTAMP:20260424T053051
CREATED:20151208T060952Z
LAST-MODIFIED:20151208T061742Z
UID:1314-1453230000-1453235400@pranichealingforanimals.com
SUMMARY:Animal Healing - Practical Skills class
DESCRIPTION:Discover how to create wellness\, reduce stress and enhance your pet’s life. This practice will help you develop your own innate healing skills to assist healing your pets. Learn about energy anatomy and how to balance your pet’s energy system. You don’t have to feel or see energy to have these techniques work! \nThis workshop begins with a 30 minute presentation on simplified Pranic Healing\, and then we have an hour for supervised practice with your quiet\, well-behaved dog. You’ll be fine-tuning your scanning skills and working on your dog’s specific physical issues.  Please bring a comfortable bed for your dog to relax on. \nCats best left home\, please. \nClass repeats every third Tuesday through June.
URL:https://pranichealingforanimals.com/event/animal-healing-practical-skills-class/
LOCATION:Friendly House\, 1737 NW 26th Avenue (at Thurman St.)\, Portland\, OR\, 97068
CATEGORIES:Practical Skills Classes
ATTACH;FMTTYPE=image/jpeg:https://pranichealingforanimals.com/wp-content/uploads/2015/09/1046540_88400942.jpg
END:VEVENT
BEGIN:VEVENT
DTSTART;TZID=America/Los_Angeles:20150730T190000
DTEND;TZID=America/Los_Angeles:20150730T210000
DTSTAMP:20260424T053051
CREATED:20150624T031022Z
LAST-MODIFIED:20150624T031022Z
UID:1162-1438282800-1438290000@pranichealingforanimals.com
SUMMARY:Meditation Practice
DESCRIPTION:Monthly meditation practice using the Meditation on Twin Hearts (also know as Meditation for Planetary Peace).  No prior experience required.  Bring a snack to share afterwards\, if you like.  Please RSVP for location information.
URL:https://pranichealingforanimals.com/event/meditation-practice-12/
LOCATION:Private Home\, Portland\, 97221
CATEGORIES:Practical Skills Classes
ATTACH;FMTTYPE=image/jpeg:https://pranichealingforanimals.com/wp-content/uploads/2015/03/full-moon-blue.jpg
END:VEVENT
BEGIN:VEVENT
DTSTART;TZID=America/Los_Angeles:20150602T190000
DTEND;TZID=America/Los_Angeles:20150602T210000
DTSTAMP:20260424T053051
CREATED:20150306T020628Z
LAST-MODIFIED:20150306T020628Z
UID:1096-1433271600-1433278800@pranichealingforanimals.com
SUMMARY:Meditation Practice
DESCRIPTION:Monthly meditation practice using the Meditation on Twin Hearts (also know as Meditation for Planetary Peace).  No prior experience required.  Bring a snack to share afterwards\, if you like.  Please RSVP for location information.
URL:https://pranichealingforanimals.com/event/meditation-practice-13/
LOCATION:Private Home\, Portland\, 97221
CATEGORIES:Practical Skills Classes
ATTACH;FMTTYPE=image/jpeg:https://pranichealingforanimals.com/wp-content/uploads/2015/03/full-moon-blue.jpg
END:VEVENT
BEGIN:VEVENT
DTSTART;TZID=America/Los_Angeles:20150508T190000
DTEND;TZID=America/Los_Angeles:20150508T210000
DTSTAMP:20260424T053051
CREATED:20150306T020359Z
LAST-MODIFIED:20150508T230802Z
UID:1094-1431111600-1431118800@pranichealingforanimals.com
SUMMARY:CANCELLED - Meditation Practice
DESCRIPTION:Monthly meditation practice using the Meditation on Twin Hearts (also know as Meditation for Planetary Peace).  No prior experience required.  Bring a snack to share afterwards\, if you like.  Please RSVP for location information.
URL:https://pranichealingforanimals.com/event/meditation-practice-11/
LOCATION:Private Home\, Portland\, 97221
CATEGORIES:Practical Skills Classes
ATTACH;FMTTYPE=image/jpeg:https://pranichealingforanimals.com/wp-content/uploads/2015/03/full-moon-blue.jpg
END:VEVENT
BEGIN:VEVENT
DTSTART;TZID=America/Los_Angeles:20150402T190000
DTEND;TZID=America/Los_Angeles:20150402T210000
DTSTAMP:20260424T053051
CREATED:20150306T020234Z
LAST-MODIFIED:20150306T020234Z
UID:1091-1428001200-1428008400@pranichealingforanimals.com
SUMMARY:Meditation Practice
DESCRIPTION:Monthly meditation practice using the Meditation on Twin Hearts (also know as Meditation for Planetary Peace).  No prior experience required.  Bring a snack to share afterwards\, if you like.  Please RSVP for location information.
URL:https://pranichealingforanimals.com/event/meditation-practice-10/
LOCATION:Private Home\, Portland\, 97221
CATEGORIES:Practical Skills Classes
ATTACH;FMTTYPE=image/jpeg:https://pranichealingforanimals.com/wp-content/uploads/2015/03/full-moon-blue.jpg
END:VEVENT
BEGIN:VEVENT
DTSTART;TZID=America/Los_Angeles:20150318T190000
DTEND;TZID=America/Los_Angeles:20150318T203000
DTSTAMP:20260424T053051
CREATED:20141120T004853Z
LAST-MODIFIED:20141216T113900Z
UID:928-1426705200-1426710600@pranichealingforanimals.com
SUMMARY:Level I review - Practical Skills
DESCRIPTION:This is an informal opportunity for questions and answers\, to go over case studies\,  and to review specific information from class in more detail. \nIn this Practical Skills review\, we start at the beginning with scanning – to make sure everyone is on the same page and confident with their scanning skills.  Then we review each of the techniques from the Level I class in the context of doing self-healing.  Please bring your book and any questions – look forward to seeing you! \nPrerequisite:  Level I graduate. \nPlease RSVP so I know how many chairs to set up.
URL:https://pranichealingforanimals.com/event/level-i-review-practical-skills-3/
LOCATION:Private Home\, Portland\, 97221
CATEGORIES:Practical Skills Classes
ATTACH;FMTTYPE=image/jpeg:https://pranichealingforanimals.com/wp-content/uploads/2014/02/scanning.jpg
END:VEVENT
BEGIN:VEVENT
DTSTART;TZID=America/Los_Angeles:20150303T190000
DTEND;TZID=America/Los_Angeles:20150303T210000
DTSTAMP:20260424T053051
CREATED:20141120T010157Z
LAST-MODIFIED:20150130T022627Z
UID:935-1425409200-1425416400@pranichealingforanimals.com
SUMMARY:Meditation Practice - New Date!
DESCRIPTION:Monthly meditation practice using the Meditation on Twin Hearts (also know as Meditation for Planetary Peace).  No prior experience required.  Bring a snack to share afterwards\, if you like.  Please RSVP for location information.
URL:https://pranichealingforanimals.com/event/meditation-practice-9/
LOCATION:Private Home\, Portland\, 97221
CATEGORIES:Practical Skills Classes
END:VEVENT
BEGIN:VEVENT
DTSTART;TZID=America/Los_Angeles:20150204T190000
DTEND;TZID=America/Los_Angeles:20150204T210000
DTSTAMP:20260424T053051
CREATED:20141120T010059Z
LAST-MODIFIED:20141120T010059Z
UID:933-1423076400-1423083600@pranichealingforanimals.com
SUMMARY:Meditation Practice
DESCRIPTION:Monthly meditation practice using the Meditation on Twin Hearts (also know as Meditation for Planetary Peace).  No prior experience required.  Bring a snack to share afterwards\, if you like.  Please RSVP for location information.
URL:https://pranichealingforanimals.com/event/meditation-practice-8/
LOCATION:Private Home\, Portland\, 97221
CATEGORIES:Practical Skills Classes
END:VEVENT
BEGIN:VEVENT
DTSTART;TZID=America/Los_Angeles:20150107T190000
DTEND;TZID=America/Los_Angeles:20150107T210000
DTSTAMP:20260424T053051
CREATED:20141120T010012Z
LAST-MODIFIED:20141120T010012Z
UID:934-1420657200-1420664400@pranichealingforanimals.com
SUMMARY:Meditation Practice
DESCRIPTION:Monthly meditation practice using the Meditation on Twin Hearts (also know as Meditation for Planetary Peace).  No prior experience required.  Bring a snack to share afterwards\, if you like.  Please RSVP for location information.
URL:https://pranichealingforanimals.com/event/meditation-practice-7/
LOCATION:Private Home\, Portland\, 97221
CATEGORIES:Practical Skills Classes
END:VEVENT
BEGIN:VEVENT
DTSTART;TZID=America/Los_Angeles:20141210T190000
DTEND;TZID=America/Los_Angeles:20141210T210000
DTSTAMP:20260424T053051
CREATED:20141105T131317Z
LAST-MODIFIED:20141105T131317Z
UID:922-1418238000-1418245200@pranichealingforanimals.com
SUMMARY:Meditation Practice
DESCRIPTION:Monthly meditation practice using the Meditation on Twin Hearts (also know as Meditation for Planetary Peace).  No prior experience required.  Bring a snack to share afterwards\, if you like.  Please RSVP for location information.
URL:https://pranichealingforanimals.com/event/meditation-practice-6/
LOCATION:Private Home\, Portland\, 97221
CATEGORIES:Practical Skills Classes
END:VEVENT
BEGIN:VEVENT
DTSTART;TZID=America/Los_Angeles:20141105T190000
DTEND;TZID=America/Los_Angeles:20141105T210000
DTSTAMP:20260424T053051
CREATED:20141009T033839Z
LAST-MODIFIED:20141105T131248Z
UID:784-1415214000-1415221200@pranichealingforanimals.com
SUMMARY:Cancelled - Meditation Practice
DESCRIPTION:Monthly meditation practice using the Meditation on Twin Hearts (also know as Meditation for Planetary Peace).  No prior experience required.  Bring a snack to share afterwards\, if you like.  Please RSVP for location information.
URL:https://pranichealingforanimals.com/event/meditation-practice-4/
LOCATION:Private Home\, Portland\, 97221
CATEGORIES:Practical Skills Classes
END:VEVENT
BEGIN:VEVENT
DTSTART;TZID=America/Los_Angeles:20141028T190000
DTEND;TZID=America/Los_Angeles:20141028T203000
DTSTAMP:20260424T053051
CREATED:20140702T230456Z
LAST-MODIFIED:20140702T230456Z
UID:811-1414522800-1414528200@pranichealingforanimals.com
SUMMARY:Level I review - Practical Skills
DESCRIPTION:This is an informal opportunity for questions and answers\, to go over case studies\,  and to review specific information from class in more detail. \nIn this Practical Skills review\, we start at the beginning with scanning – to make sure everyone is on the same page and confident with their scanning skills.  Then we review each of the techniques from the Level I class in the context of doing self-healing.  Please bring your book and any questions – look forward to seeing you! \nPrerequisite:  Level I graduate. \nPlease RSVP so I know how many chairs to set up.
URL:https://pranichealingforanimals.com/event/level-i-review-practical-skills/
LOCATION:Private Home\, Portland\, 97221
CATEGORIES:Practical Skills Classes
ATTACH;FMTTYPE=image/jpeg:https://pranichealingforanimals.com/wp-content/uploads/2014/02/scanning.jpg
END:VEVENT
BEGIN:VEVENT
DTSTART;TZID=America/Los_Angeles:20141008T190000
DTEND;TZID=America/Los_Angeles:20141008T210000
DTSTAMP:20260424T053051
CREATED:20141004T072215Z
LAST-MODIFIED:20141004T072216Z
UID:914-1412794800-1412802000@pranichealingforanimals.com
SUMMARY:Meditation Practice
DESCRIPTION:Monthly meditation practice using the Meditation on Twin Hearts (also know as Meditation for Planetary Peace).  No prior experience required.  Bring a snack to share afterwards\, if you like.  Please RSVP for location information.
URL:https://pranichealingforanimals.com/event/meditation-practice-5/
LOCATION:Private Home\, Portland\, 97221
CATEGORIES:Practical Skills Classes
END:VEVENT
BEGIN:VEVENT
DTSTART;TZID=America/Los_Angeles:20140911T190000
DTEND;TZID=America/Los_Angeles:20140911T203000
DTSTAMP:20260424T053051
CREATED:20140702T230127Z
LAST-MODIFIED:20140702T230542Z
UID:810-1410462000-1410467400@pranichealingforanimals.com
SUMMARY:Level I review - Practical Skills
DESCRIPTION:In this Practical Skills review\, we start at the beginning with scanning – to make sure everyone is on the same page and confident with their scanning skills.  Then we review each of the techniques from the Level I class in the context of doing self-healing.  Please bring your book and any questions – look forward to seeing you! \nPrerequisite:  Level I graduate. \nPlease RSVP so I know how many chairs to set up.
URL:https://pranichealingforanimals.com/event/level-i-practical-skills-review/
LOCATION:Private Home\, Portland\, 97221
CATEGORIES:Practical Skills Classes
ATTACH;FMTTYPE=image/jpeg:https://pranichealingforanimals.com/wp-content/uploads/2014/02/scanning.jpg
END:VEVENT
BEGIN:VEVENT
DTSTART;TZID=America/Los_Angeles:20140910T190000
DTEND;TZID=America/Los_Angeles:20140910T210000
DTSTAMP:20260424T053051
CREATED:20140613T033954Z
LAST-MODIFIED:20140613T033954Z
UID:785-1410375600-1410382800@pranichealingforanimals.com
SUMMARY:Meditation Practice
DESCRIPTION:Monthly meditation practice using the Meditation on Twin Hearts (also know as Meditation for Planetary Peace).  No prior experience required.  Bring a snack to share afterwards\, if you like.  Please RSVP for location information.
URL:https://pranichealingforanimals.com/event/meditation-practice-3/
LOCATION:Private Home\, Portland\, 97221
CATEGORIES:Practical Skills Classes
END:VEVENT
BEGIN:VEVENT
DTSTART;TZID=America/Los_Angeles:20140813T190000
DTEND;TZID=America/Los_Angeles:20140813T210000
DTSTAMP:20260424T053051
CREATED:20140613T033923Z
LAST-MODIFIED:20140613T033923Z
UID:786-1407956400-1407963600@pranichealingforanimals.com
SUMMARY:Meditation Practice
DESCRIPTION:Monthly meditation practice using the Meditation on Twin Hearts (also know as Meditation for Planetary Peace).  No prior experience required.  Bring a snack to share afterwards\, if you like.  Please RSVP for location information.
URL:https://pranichealingforanimals.com/event/meditation-practice-2/
LOCATION:Private Home\, Portland\, 97221
CATEGORIES:Practical Skills Classes
END:VEVENT
BEGIN:VEVENT
DTSTART;TZID=America/Los_Angeles:20140808T190000
DTEND;TZID=America/Los_Angeles:20140808T203000
DTSTAMP:20260424T053051
CREATED:20140417T025815Z
LAST-MODIFIED:20140702T230354Z
UID:714-1407524400-1407529800@pranichealingforanimals.com
SUMMARY:Level I review - Practical Skills
DESCRIPTION:This is an informal opportunity for questions and answers\, to go over case studies\,  and to review specific information from class in more detail. \nIn this Practical Skills review\, we start at the beginning with scanning – to make sure everyone is on the same page and confident with their scanning skills.  Then we review each of the techniques from the Level I class in the context of doing self-healing.  Please bring your book and any questions – look forward to seeing you! \nPrerequisite:  Level I graduate. \nPlease RSVP so I know how many chairs to set up.
URL:https://pranichealingforanimals.com/event/scanning-fundamental-skills-2/
LOCATION:Private Home\, Portland\, 97221
CATEGORIES:Practical Skills Classes
ATTACH;FMTTYPE=image/jpeg:https://pranichealingforanimals.com/wp-content/uploads/2014/02/scanning.jpg
END:VEVENT
BEGIN:VEVENT
DTSTART;TZID=America/Los_Angeles:20140729T190000
DTEND;TZID=America/Los_Angeles:20140729T203000
DTSTAMP:20260424T053051
CREATED:20140221T142453Z
LAST-MODIFIED:20140702T225320Z
UID:581-1406660400-1406665800@pranichealingforanimals.com
SUMMARY:Level I - Q & A Review
DESCRIPTION:Please join us for this quarterly review of Basic Pranic Healing – Level I.  This is an informal opportunity for questions and answers\, to go over case studies\,  and to review specific information from class in more detail.
URL:https://pranichealingforanimals.com/event/level-i-review-2/
LOCATION:Private Home\, Portland\, 97221
CATEGORIES:Practical Skills Classes
END:VEVENT
BEGIN:VEVENT
DTSTART;TZID=America/Los_Angeles:20140709T190000
DTEND;TZID=America/Los_Angeles:20140709T210000
DTSTAMP:20260424T053051
CREATED:20140613T032609Z
LAST-MODIFIED:20140613T032609Z
UID:777-1404932400-1404939600@pranichealingforanimals.com
SUMMARY:Meditation Practice
DESCRIPTION:Monthly meditation practice using the Meditation on Twin Hearts (also know as Meditation for Planetary Peace).  No prior experience required.  Bring a snack to share afterwards\, if you like.  Please RSVP for location information.
URL:https://pranichealingforanimals.com/event/meditation-practice/
LOCATION:Private Home\, Portland\, 97221
CATEGORIES:Practical Skills Classes
END:VEVENT
BEGIN:VEVENT
DTSTART;TZID=America/Los_Angeles:20140429T190000
DTEND;TZID=America/Los_Angeles:20140429T203000
DTSTAMP:20260424T053051
CREATED:20140221T142240Z
LAST-MODIFIED:20140221T142538Z
UID:579-1398798000-1398803400@pranichealingforanimals.com
SUMMARY:Level I - Review
DESCRIPTION:Please join us for this quarterly review of Basic Pranic Healing – Level I.  This is an informal opportunity for questions and answers\, to go over case studies\,  and to review specific information from class in more detail.
URL:https://pranichealingforanimals.com/event/level-i-review/
LOCATION:Private Home\, Portland\, 97221
CATEGORIES:Practical Skills Classes
END:VEVENT
BEGIN:VEVENT
DTSTART;TZID=America/Los_Angeles:20140321T190000
DTEND;TZID=America/Los_Angeles:20140321T203000
DTSTAMP:20260424T053051
CREATED:20140211T032906Z
LAST-MODIFIED:20140613T033445Z
UID:320-1395428400-1395433800@pranichealingforanimals.com
SUMMARY:Scanning Practice - Continuing Skills
DESCRIPTION:This practice is designed for the intermediate scanner\, with some prior experience.  We will first practice the basics\, and then quickly move on to practice advanced applications of Subtle Energy Scanning.  Strongly recommend Basic Scanning as a prerequisite.\n \nLocation in SW Portland\, Oregon.  RSVP to receive exact location.
URL:https://pranichealingforanimals.com/event/advanced-scanning/
LOCATION:Private Home\, Portland\, 97221
CATEGORIES:Practical Skills Classes
ATTACH;FMTTYPE=image/jpeg:https://pranichealingforanimals.com/wp-content/uploads/2014/02/scanning.jpg
END:VEVENT
BEGIN:VEVENT
DTSTART;TZID=America/Los_Angeles:20140221T190000
DTEND;TZID=America/Los_Angeles:20140221T203000
DTSTAMP:20260424T053051
CREATED:20140211T031117Z
LAST-MODIFIED:20140218T095156Z
UID:316-1393009200-1393014600@pranichealingforanimals.com
SUMMARY:Scanning - Fundamental Skills
DESCRIPTION:What is “scanning?”   Scanning is a practice we use to FEEL the subtle energy of another person\, using our hands. There is no physical contact.  It is similar to dowsing\, using a pendulum and muscle testing\, but much more versatile and doesn’t require any special tools. \nWe use scanning to assess the effect of different things on the strength and vitality of our subtle energy field. It is excellent for applications such as evaluating the energetic impact of different foods on the strength of the energy field\, without having to actually ingest the substance.\nThis class is designed for the beginner scanner\, with no prior experience.
URL:https://pranichealingforanimals.com/event/scanning-fundamental-skills/
CATEGORIES:Practical Skills Classes
ATTACH;FMTTYPE=image/jpeg:https://pranichealingforanimals.com/wp-content/uploads/2014/02/scanning.jpg
END:VEVENT
END:VCALENDAR