BEGIN:VCALENDAR
VERSION:2.0
PRODID:-//nwPranaPets - ECPv6.15.20//NONSGML v1.0//EN
CALSCALE:GREGORIAN
METHOD:PUBLISH
X-ORIGINAL-URL:https://pranichealingforanimals.com
X-WR-CALDESC:Events for nwPranaPets
REFRESH-INTERVAL;VALUE=DURATION:PT1H
X-Robots-Tag:noindex
X-PUBLISHED-TTL:PT1H
BEGIN:VTIMEZONE
TZID:America/Los_Angeles
BEGIN:DAYLIGHT
TZOFFSETFROM:-0800
TZOFFSETTO:-0700
TZNAME:PDT
DTSTART:20250309T100000
END:DAYLIGHT
BEGIN:STANDARD
TZOFFSETFROM:-0700
TZOFFSETTO:-0800
TZNAME:PST
DTSTART:20251102T090000
END:STANDARD
BEGIN:DAYLIGHT
TZOFFSETFROM:-0800
TZOFFSETTO:-0700
TZNAME:PDT
DTSTART:20260308T100000
END:DAYLIGHT
BEGIN:STANDARD
TZOFFSETFROM:-0700
TZOFFSETTO:-0800
TZNAME:PST
DTSTART:20261101T090000
END:STANDARD
BEGIN:DAYLIGHT
TZOFFSETFROM:-0800
TZOFFSETTO:-0700
TZNAME:PDT
DTSTART:20270314T100000
END:DAYLIGHT
BEGIN:STANDARD
TZOFFSETFROM:-0700
TZOFFSETTO:-0800
TZNAME:PST
DTSTART:20271107T090000
END:STANDARD
END:VTIMEZONE
BEGIN:VEVENT
DTSTART;TZID=America/Los_Angeles:20260411T130000
DTEND;TZID=America/Los_Angeles:20260411T150000
DTSTAMP:20260421T163547
CREATED:20260310T060641Z
LAST-MODIFIED:20260408T032227Z
UID:1787-1775912400-1775919600@pranichealingforanimals.com
SUMMARY:Energy Healing for your Pet in NW Portland
DESCRIPTION:Discover how energy healing can support your pet’s well-being in this engaging\, hands-on workshop designed for animal lovers of all experience levels. \nIn this interactive class\, you’ll be introduced to the basics of subtle energy and learn simple techniques you can use to help bring balance\, relaxation\, and comfort to your pet. No prior experience\, special tools\, or background in energy work is required—just curiosity and a willingness to learn. \nYou’ll begin by learning how to gently activate the energy centers in your hands and develop awareness of subtle energy (often called prana). With practice\, you’ll learn how to sense areas of imbalance in your pet’s energy field and apply easy techniques that can support relaxation\, comfort\, and overall well-being. \nThroughout the workshop\, we’ll explore the basics of energy anatomy and how it relates to animals. You’ll also learn a practical “First Aid” technique that can be used to support pain relief and encourage the body’s natural healing processes\, along with simple methods to help reduce stress and promote calm. \nThe class includes a short presentation introducing simplified subtle energy healing\, followed by guided\, hands-on practice. You’ll have the opportunity to practice scanning and energy techniques with pets while receiving guidance and feedback. \nEven if you don’t feel or see energy right away\, that’s completely normal—these techniques are designed to be accessible and effective for beginners. \nYou’re welcome to attend whether or not you bring an animal companion. Everyone interested in learning how to support animal wellness is invited to join. \nRegistration is $55.Come learn practical tools you can use to support the health\, comfort\, and happiness of the animals you love. \nWell behaved dogs only please.  We reserve the right to ask any dog behaving inappropriately to leave.  Cats please in secure carrier at all times. \n\n\n                \n                        \n                            Energy Healing for Pets 2026 at Rhythms PDX\n                             \n							"*" indicates required fields \n                        \n                        Name*\n                            \n                            \n                                                    \n                                                    First\n                                                \n                            \n                            \n                                                    \n                                                    Last\n                                                \n                            \n                        Address*    \n                    \n                         \n                                        \n                                        Street Address\n                                    \n                                    \n                                    City\n                                 \n                                        \n                                        State / Province / Region\n                                      \n                                    \n                                    ZIP / Postal Code\n                                \n                    \n                Phone*Email*\n                                \n                                    \n                                    Enter Email\n                                \n                                \n                                    \n                                    Confirm Email\n                                \n                                \n                            Dog Participant (one pet per registration)please include Name\, age and breed (please keep on a short leash)Cat Participant (one pet per registration)please include Name\, age and breed  (please keep in a travel crate)Energy healing training & experience*\n								\n								No energy healing experience\n							\n								\n								Pranic Healing training\n							\n								\n								Reiki training\n							\n								\n								other energy healing training\n							Registration*Admission for one person/one pet\n			\n					\n					April 11 EHFP - $55\n			\n			\n					\n					June 13 EHFP - $55\n			\n			\n					\n					August 9 EHFP - $55\n			\n			\n					\n					October 10 EHFP - $55\n			\n			\n					\n					December 12 EHFP - $55\n			Payment*\n			\n					\n					Paypal transaction\n			\n			\n					\n					Cash at the door\n			How did you hear about this class?*\n								\n								Rhythms PDX\n							\n								\n								From a friend\n							\n								\n								Meetup\n							\n								\n								Eventbrite\n							\n								\n								Facebook\n							\n								\n								Email\n							\n								\n								I don't remember\n							\n								\n								Other\n							Total\n							\n						Informational Statement*I certify that the facts herein are true and correct. I understand that the Master Choa Kok Sui Courses\, including the Pranic Healing® System are not intended to replace orthodox medicine or proper psychiatric care\, but rather to complement and enhance them. If symptoms persist or are severe\, I will consult a competent medical professional immediately. I understand that this course is intended to inform and educate only. No diagnosing\, prescribing or curing is intended or implied.  I also understand that the information presented is copyrighted\, so No Video or Audio Taping is Allowed. \n			\n					\n					I agree\n			Liability Waiver*I understand that my attendance in class is not without risk to myself\, my dog\, other family members or guests\, and other class participants (human or canine). These include\, without limitation\, risks of physical injury\, mental injury\, emotional distress\, trauma\, death\, contact with other participants and their dogs\, and\nproperty damage. All risks are known and appreciated by me. I waive any and all specific notice of the existence of the risks. I shall assume responsibility for and pay my and my dog’s medical and emergency expenses in the event of injury\, illness\, or other incapacity regardless of whether I authorized such expenses. I agree that I\, as owner of the above dog(s)\, am solely responsible for the dog(s) behavior and physical control and agree to carefully monitor and control it at all times.\nI agree to indemnify and hold harmless Liza Burney\, Heart to Heart Healing LLC and nwPranaPets\, and all agents from any loss\, liability\, damage\, or cost they may occur whether caused by their negligence. I further agree to assume responsibility for legal costs\, attorney fees\, and investigative costs\, and additional expenses. \n			\n					\n					I agree\n			Electronic Signature*CAPTCHA
URL:https://pranichealingforanimals.com/event/healing-2026-rhythms/
LOCATION:Rhythms PDX\, 1720 NW Marshall\, Portland\, OR\, 97209
CATEGORIES:Intro Classes,Practical Skills Classes
ATTACH;FMTTYPE=image/jpeg:https://pranichealingforanimals.com/wp-content/uploads/2023/05/energy-healing-for-pets.jpg
END:VEVENT
END:VCALENDAR