BEGIN:VCALENDAR
VERSION:2.0
PRODID:-//nwPranaPets - ECPv6.15.20//NONSGML v1.0//EN
CALSCALE:GREGORIAN
METHOD:PUBLISH
X-WR-CALNAME:nwPranaPets
X-ORIGINAL-URL:https://pranichealingforanimals.com
X-WR-CALDESC:Events for nwPranaPets
REFRESH-INTERVAL;VALUE=DURATION:PT1H
X-Robots-Tag:noindex
X-PUBLISHED-TTL:PT1H
BEGIN:VTIMEZONE
TZID:America/Los_Angeles
BEGIN:DAYLIGHT
TZOFFSETFROM:-0800
TZOFFSETTO:-0700
TZNAME:PDT
DTSTART:20150308T100000
END:DAYLIGHT
BEGIN:STANDARD
TZOFFSETFROM:-0700
TZOFFSETTO:-0800
TZNAME:PST
DTSTART:20151101T090000
END:STANDARD
BEGIN:DAYLIGHT
TZOFFSETFROM:-0800
TZOFFSETTO:-0700
TZNAME:PDT
DTSTART:20160313T100000
END:DAYLIGHT
BEGIN:STANDARD
TZOFFSETFROM:-0700
TZOFFSETTO:-0800
TZNAME:PST
DTSTART:20161106T090000
END:STANDARD
BEGIN:DAYLIGHT
TZOFFSETFROM:-0800
TZOFFSETTO:-0700
TZNAME:PDT
DTSTART:20170312T100000
END:DAYLIGHT
BEGIN:STANDARD
TZOFFSETFROM:-0700
TZOFFSETTO:-0800
TZNAME:PST
DTSTART:20171105T090000
END:STANDARD
BEGIN:DAYLIGHT
TZOFFSETFROM:-0800
TZOFFSETTO:-0700
TZNAME:PDT
DTSTART:20180311T100000
END:DAYLIGHT
BEGIN:STANDARD
TZOFFSETFROM:-0700
TZOFFSETTO:-0800
TZNAME:PST
DTSTART:20181104T090000
END:STANDARD
BEGIN:DAYLIGHT
TZOFFSETFROM:-0800
TZOFFSETTO:-0700
TZNAME:PDT
DTSTART:20190310T100000
END:DAYLIGHT
BEGIN:STANDARD
TZOFFSETFROM:-0700
TZOFFSETTO:-0800
TZNAME:PST
DTSTART:20191103T090000
END:STANDARD
BEGIN:DAYLIGHT
TZOFFSETFROM:-0800
TZOFFSETTO:-0700
TZNAME:PDT
DTSTART:20200308T100000
END:DAYLIGHT
BEGIN:STANDARD
TZOFFSETFROM:-0700
TZOFFSETTO:-0800
TZNAME:PST
DTSTART:20201101T090000
END:STANDARD
BEGIN:DAYLIGHT
TZOFFSETFROM:-0800
TZOFFSETTO:-0700
TZNAME:PDT
DTSTART:20210314T100000
END:DAYLIGHT
BEGIN:STANDARD
TZOFFSETFROM:-0700
TZOFFSETTO:-0800
TZNAME:PST
DTSTART:20211107T090000
END:STANDARD
BEGIN:DAYLIGHT
TZOFFSETFROM:-0800
TZOFFSETTO:-0700
TZNAME:PDT
DTSTART:20220313T100000
END:DAYLIGHT
BEGIN:STANDARD
TZOFFSETFROM:-0700
TZOFFSETTO:-0800
TZNAME:PST
DTSTART:20221106T090000
END:STANDARD
BEGIN:DAYLIGHT
TZOFFSETFROM:-0800
TZOFFSETTO:-0700
TZNAME:PDT
DTSTART:20230312T100000
END:DAYLIGHT
BEGIN:STANDARD
TZOFFSETFROM:-0700
TZOFFSETTO:-0800
TZNAME:PST
DTSTART:20231105T090000
END:STANDARD
BEGIN:DAYLIGHT
TZOFFSETFROM:-0800
TZOFFSETTO:-0700
TZNAME:PDT
DTSTART:20240310T100000
END:DAYLIGHT
BEGIN:STANDARD
TZOFFSETFROM:-0700
TZOFFSETTO:-0800
TZNAME:PST
DTSTART:20241103T090000
END:STANDARD
END:VTIMEZONE
BEGIN:VEVENT
DTSTART;TZID=America/Los_Angeles:20230630T180000
DTEND;TZID=America/Los_Angeles:20230630T190000
DTSTAMP:20260424T205713
CREATED:20230618T215852Z
LAST-MODIFIED:20230618T224017Z
UID:1564-1688148000-1688151600@pranichealingforanimals.com
SUMMARY:Meditate with Your Dog
DESCRIPTION:Dogs are natural meditators. They are tuned in to energy and emotion. They live in the present. At the same time\, our dogs can hold a lot of stress energy. We know meditation helps people de-stress\, improve focus and concentration and accelerate physical healing. Ever wondered if it could help your dog as well? Maybe both of you at the same time? \nOur state of mind can influence our dog. Anxious dogs begin to relax with regular meditation practice. Strengthen the heart connection and bond. Meditation is an excellent practice for you\, and it is a wonderful practice to share with your pets. \nThis is a beginner-friendly class and does not require any prior meditation experience. We will begin by discussing meditation techniques and then actually do a heart-centered loving-kindness meditation with our pet to increase inner peace and well-being. All dogs are welcome. \nCost for the event is $free\nThursday\, June 30 at 6 – 7 pm pacific\nPlease register to receive Zoom link: \nhttps://us02web.zoom.us/meeting/register/tZYvdOqrrjosHdB_0ksqyqYkv7kLYqzMey_y \nLive only\, no recordings.
URL:https://pranichealingforanimals.com/event/meditate-with-your-dog-2023-06-29-2/
LOCATION:Zoom online
CATEGORIES:Meditation
ATTACH;FMTTYPE=image/jpeg:https://pranichealingforanimals.com/wp-content/uploads/2015/12/iStock_000054139356_Large-e1451584071540.jpg
END:VEVENT
BEGIN:VEVENT
DTSTART;TZID=America/Los_Angeles:20230601T190000
DTEND;TZID=America/Los_Angeles:20230601T200000
DTSTAMP:20260424T205713
CREATED:20230503T181539Z
LAST-MODIFIED:20230503T191035Z
UID:1552-1685646000-1685649600@pranichealingforanimals.com
SUMMARY:Meditate with Your Dog
DESCRIPTION:Dogs are natural meditators. They are tuned in to energy and emotion. They live in the present. At the same time\, our dogs can hold a lot of stress energy. We know meditation helps people de-stress\, improve focus and concentration and accelerate physical healing. Ever wondered if it could help your dog as well? Maybe both of you at the same time? \nOur state of mind can influence our dog. Anxious dogs begin to relax with regular meditation practice. Strengthen the heart connection and bond. Meditation is an excellent practice for you\, and it is a wonderful practice to share with your pets. \nThis is a beginner-friendly class and does not require any prior meditation experience. We will begin by discussing meditation techniques and then actually do a heart-centered loving-kindness meditation with our pet to increase inner peace and well-being. All dogs are welcome. \nCost for the event is $free\nThursday\, June 1 at 7 – 8pm pacific\nPlease register to receive Zoom link: \nhttps://us02web.zoom.us/meeting/register/tZAucemupz4tGtxe-8uXAUpwamup0ClIvlna \nLive only\, no recordings.
URL:https://pranichealingforanimals.com/event/meditate-with-your-dog-2023-06/
LOCATION:Zoom online
CATEGORIES:Meditation
ATTACH;FMTTYPE=image/jpeg:https://pranichealingforanimals.com/wp-content/uploads/2015/12/iStock_000054139356_Large-e1451584071540.jpg
END:VEVENT
BEGIN:VEVENT
DTSTART;TZID=America/Los_Angeles:20160702T100000
DTEND;TZID=America/Los_Angeles:20160702T113000
DTSTAMP:20260424T205713
CREATED:20160104T042418Z
LAST-MODIFIED:20160609T182013Z
UID:1335-1467453600-1467459000@pranichealingforanimals.com
SUMMARY:Meditate with Your Dog
DESCRIPTION:Dogs are natural meditators. They are tuned in to energy and emotion. They live in the present. At the same time\, our dogs can hold a lot of stress energy. We know meditation helps people de-stress\, improve focus and concentration and accelerate physical healing. Ever wondered if it could help your dog as well? Maybe both of you at the same time? \nOur state of mind can influence our dog. Anxious dogs begin to relax with regular meditation practice. Strengthen the heart connection and bond. Meditation is an excellent practice for you\, and it is a wonderful practice to share with your pets. \nThis is a beginner-friendly class and does not require any prior meditation experience. We will begin by discussing meditation techniques and then actually do a heart-centered loving-kindness meditation with our pet to increase inner peace and well-being. Quiet\, well behaved dogs are welcome. \nCost for the event is $10 per person.\nFirst Saturday of the month. \n 
URL:https://pranichealingforanimals.com/event/meditate-with-your-dog-6/
LOCATION:Animal Healing Arts of Portland\, 3575 NE Broadway\, Portland\, OR\, 97232\, United States
CATEGORIES:Meditation
ATTACH;FMTTYPE=image/jpeg:https://pranichealingforanimals.com/wp-content/uploads/2015/12/iStock_000054139356_Large-e1451584071540.jpg
END:VEVENT
BEGIN:VEVENT
DTSTART;TZID=America/Los_Angeles:20160604T100000
DTEND;TZID=America/Los_Angeles:20160604T112500
DTSTAMP:20260424T205713
CREATED:20160104T042346Z
LAST-MODIFIED:20160210T204019Z
UID:1334-1465034400-1465039500@pranichealingforanimals.com
SUMMARY:Meditate with Your Dog
DESCRIPTION:Dogs are natural meditators. They are tuned in to energy and emotion. They live in the present. At the same time\, our dogs can hold a lot of stress energy. We know meditation helps people de-stress\, improve focus and concentration and accelerate physical healing. Ever wondered if it could help your dog as well? Maybe both of you at the same time? \nOur state of mind can influence our dog. Anxious dogs begin to relax with regular meditation practice. Strengthen the heart connection and bond. Meditation is an excellent practice for you\, and it is a wonderful practice to share with your pets. \nThis is a beginner-friendly class and does not require any prior meditation experience. We will begin by discussing meditation techniques and then actually do a heart-centered loving-kindness meditation with our pet to increase inner peace and well-being. Quiet\, well behaved dogs are welcome. \nCost for the event is $10 per person.\nFirst Saturday of the month.
URL:https://pranichealingforanimals.com/event/meditate-with-your-dog-5/
LOCATION:Animal Healing Arts of Portland\, 3575 NE Broadway\, Portland\, OR\, 97232\, United States
CATEGORIES:Meditation
ATTACH;FMTTYPE=image/jpeg:https://pranichealingforanimals.com/wp-content/uploads/2015/12/iStock_000054139356_Large-e1451584071540.jpg
END:VEVENT
BEGIN:VEVENT
DTSTART;TZID=America/Los_Angeles:20160507T100000
DTEND;TZID=America/Los_Angeles:20160507T112500
DTSTAMP:20260424T205713
CREATED:20160104T041753Z
LAST-MODIFIED:20160210T204058Z
UID:1332-1462615200-1462620300@pranichealingforanimals.com
SUMMARY:Meditate with Your Dog
DESCRIPTION:Dogs are natural meditators. They are tuned in to energy and emotion. They live in the present. At the same time\, our dogs can hold a lot of stress energy. We know meditation helps people de-stress\, improve focus and concentration and accelerate physical healing. Ever wondered if it could help your dog as well? Maybe both of you at the same time? \nOur state of mind can influence our dog. Anxious dogs begin to relax with regular meditation practice. Strengthen the heart connection and bond. Meditation is an excellent practice for you\, and it is a wonderful practice to share with your pets. \nThis is a beginner-friendly class and does not require any prior meditation experience. We will begin by discussing meditation techniques and then actually do a heart-centered loving-kindness meditation with our pet to increase inner peace and well-being. Quiet\, well behaved dogs are welcome. \nCost for the event is $10 per person.\nFirst Saturday of the month.
URL:https://pranichealingforanimals.com/event/meditate-with-your-dog-3/
LOCATION:Animal Healing Arts of Portland\, 3575 NE Broadway\, Portland\, OR\, 97232\, United States
CATEGORIES:Meditation
ATTACH;FMTTYPE=image/jpeg:https://pranichealingforanimals.com/wp-content/uploads/2015/12/iStock_000054139356_Large-e1451584071540.jpg
END:VEVENT
BEGIN:VEVENT
DTSTART;TZID=America/Los_Angeles:20160402T100000
DTEND;TZID=America/Los_Angeles:20160402T112500
DTSTAMP:20260424T205713
CREATED:20160104T041944Z
LAST-MODIFIED:20160331T182133Z
UID:1333-1459591200-1459596300@pranichealingforanimals.com
SUMMARY:Meditate with Your Dog
DESCRIPTION:Dogs are natural meditators. They are tuned in to energy and emotion. They live in the present. At the same time\, our dogs can hold a lot of stress energy. We know meditation helps people de-stress\, improve focus and concentration and accelerate physical healing. Ever wondered if it could help your dog as well? Maybe both of you at the same time? \nOur state of mind can influence our dog. Anxious dogs begin to relax with regular meditation practice. Strengthen the heart connection and bond. Meditation is an excellent practice for you\, and it is a wonderful practice to share with your pets. \nThis is a beginner-friendly class and does not require any prior meditation experience. We will begin by discussing meditation techniques and then actually do a heart-centered loving-kindness meditation with our pet to increase inner peace and well-being. Quiet\, well behaved dogs are welcome. \nCost for the event is $10 per person.\nFirst Saturday of the month.
URL:https://pranichealingforanimals.com/event/meditate-with-your-dog-4/
LOCATION:Friendly House\, 1737 NW 26th Avenue (at Thurman St.)\, Portland\, OR\, 97068
CATEGORIES:Meditation
ATTACH;FMTTYPE=image/jpeg:https://pranichealingforanimals.com/wp-content/uploads/2015/12/iStock_000054139356_Large-e1451584071540.jpg
END:VEVENT
BEGIN:VEVENT
DTSTART;TZID=America/Los_Angeles:20160305T100000
DTEND;TZID=America/Los_Angeles:20160305T112500
DTSTAMP:20260424T205713
CREATED:20160104T041727Z
LAST-MODIFIED:20160210T204214Z
UID:1331-1457172000-1457177100@pranichealingforanimals.com
SUMMARY:Meditate with Your Dog
DESCRIPTION:Dogs are natural meditators. They are tuned in to energy and emotion. They live in the present. At the same time\, our dogs can hold a lot of stress energy. We know meditation helps people de-stress\, improve focus and concentration and accelerate physical healing. Ever wondered if it could help your dog as well? Maybe both of you at the same time? \nOur state of mind can influence our dog. Anxious dogs begin to relax with regular meditation practice. Strengthen the heart connection and bond. Meditation is an excellent practice for you\, and it is a wonderful practice to share with your pets. \nThis is a beginner-friendly class and does not require any prior meditation experience. We will begin by discussing meditation techniques and then actually do a heart-centered loving-kindness meditation with our pet to increase inner peace and well-being. Quiet\, well behaved dogs are welcome. \nCost for the event is $10 per person.\nFirst Saturday of the month.
URL:https://pranichealingforanimals.com/event/meditate-with-your-dog-2/
LOCATION:Animal Healing Arts of Portland\, 3575 NE Broadway\, Portland\, OR\, 97232\, United States
CATEGORIES:Meditation
ATTACH;FMTTYPE=image/jpeg:https://pranichealingforanimals.com/wp-content/uploads/2015/12/iStock_000054139356_Large-e1451584071540.jpg
END:VEVENT
BEGIN:VEVENT
DTSTART;TZID=America/Los_Angeles:20160206T100000
DTEND;TZID=America/Los_Angeles:20160206T112500
DTSTAMP:20260424T205713
CREATED:20160104T041248Z
LAST-MODIFIED:20160104T042112Z
UID:1327-1454752800-1454757900@pranichealingforanimals.com
SUMMARY:Meditate with Your Dog
DESCRIPTION:Dogs are natural meditators. They are tuned in to energy and emotion. They live in the present. At the same time\, our dogs can hold a lot of stress energy. We know meditation helps people de-stress\, improve focus and concentration and accelerate physical healing. Ever wondered if it could help your dog as well? Maybe both of you at the same time? \nOur state of mind can influence our dog. Anxious dogs begin to relax with regular meditation practice. Strengthen the heart connection and bond. Meditation is an excellent practice for you\, and it is a wonderful practice to share with your pets. \nThis is a beginner-friendly class and does not require any prior meditation experience. We will begin by discussing meditation techniques and then actually do a heart-centered loving-kindness meditation with our pet to increase inner peace and well-being. Quiet\, well behaved dogs are welcome. \nCost for the event is $10 per person.\nFirst Saturday of the month.
URL:https://pranichealingforanimals.com/event/meditate-with-your-dog/
LOCATION:Animal Healing Arts of Portland\, 3575 NE Broadway\, Portland\, OR\, 97232\, United States
CATEGORIES:Meditation
ATTACH;FMTTYPE=image/jpeg:https://pranichealingforanimals.com/wp-content/uploads/2016/01/1047271_35748515-e1451880982115.jpg
END:VEVENT
END:VCALENDAR